BEGIN:VCALENDAR
VERSION:2.0
PRODID:-//Macaulay Elementary - ECPv6.2.8.1//NONSGML v1.0//EN
CALSCALE:GREGORIAN
METHOD:PUBLISH
X-WR-CALNAME:Macaulay Elementary
X-ORIGINAL-URL:https://macaulay.sd61.bc.ca
X-WR-CALDESC:Events for Macaulay Elementary
REFRESH-INTERVAL;VALUE=DURATION:PT1H
X-Robots-Tag:noindex
X-PUBLISHED-TTL:PT1H
BEGIN:VTIMEZONE
TZID:America/Vancouver
BEGIN:DAYLIGHT
TZOFFSETFROM:-0800
TZOFFSETTO:-0700
TZNAME:PDT
DTSTART:20190310T100000
END:DAYLIGHT
BEGIN:STANDARD
TZOFFSETFROM:-0700
TZOFFSETTO:-0800
TZNAME:PST
DTSTART:20191103T090000
END:STANDARD
END:VTIMEZONE
BEGIN:VEVENT
DTSTART;TZID=America/Vancouver:20190508T183000
DTEND;TZID=America/Vancouver:20190508T200000
DTSTAMP:20260423T005410
CREATED:20190116T221937Z
LAST-MODIFIED:20190116T221937Z
UID:2442-1557340200-1557345600@macaulay.sd61.bc.ca
SUMMARY:PAC meeting
DESCRIPTION:
URL:https://macaulay.sd61.bc.ca/calendar-event/pac-meeting-6/
END:VEVENT
BEGIN:VEVENT
DTSTART;VALUE=DATE:20190517
DTEND;VALUE=DATE:20190518
DTSTAMP:20260423T005410
CREATED:20190116T222007Z
LAST-MODIFIED:20190116T222007Z
UID:2444-1558051200-1558137599@macaulay.sd61.bc.ca
SUMMARY:Pro-D Day no school in session
DESCRIPTION:
URL:https://macaulay.sd61.bc.ca/calendar-event/pro-d-day-no-school-in-session-3/
END:VEVENT
BEGIN:VEVENT
DTSTART;VALUE=DATE:20190520
DTEND;VALUE=DATE:20190521
DTSTAMP:20260423T005410
CREATED:20190116T222038Z
LAST-MODIFIED:20190116T222038Z
UID:2446-1558310400-1558396799@macaulay.sd61.bc.ca
SUMMARY:Victoria Day no school in session
DESCRIPTION:
URL:https://macaulay.sd61.bc.ca/calendar-event/victoria-day-no-school-in-session/
END:VEVENT
BEGIN:VEVENT
DTSTART;TZID=America/Vancouver:20190523T173000
DTEND;TZID=America/Vancouver:20190523T190000
DTSTAMP:20260423T005410
CREATED:20190116T222107Z
LAST-MODIFIED:20190506T170535Z
UID:2448-1558632600-1558638000@macaulay.sd61.bc.ca
SUMMARY:Welcome to Kindergarten: child and parent
DESCRIPTION:
URL:https://macaulay.sd61.bc.ca/calendar-event/welcome-to-kindergarten-2/
END:VEVENT
BEGIN:VEVENT
DTSTART;TZID=America/Vancouver:20190528T180000
DTEND;TZID=America/Vancouver:20190528T190000
DTSTAMP:20260423T005410
CREATED:20190506T170455Z
LAST-MODIFIED:20190506T170455Z
UID:2474-1559066400-1559070000@macaulay.sd61.bc.ca
SUMMARY:Welcome to Kindergarten: info session for parents only
DESCRIPTION:
URL:https://macaulay.sd61.bc.ca/calendar-event/welcome-to-kindergarten-info-session-for-parents-only/
END:VEVENT
END:VCALENDAR